BEGIN:VCALENDAR
VERSION:2.0
CALSCALE:GREGORIAN
PRODID:adamgibbons/ics
METHOD:PUBLISH
X-PUBLISHED-TTL:PT1H
BEGIN:VEVENT
UID:10@tucsontimeline.info
SUMMARY:Cyclovia Fall 2024
DTSTAMP:20260423T113312Z
DTSTART:20241027T160000Z
DTEND:20241027T210000Z
DESCRIPTION:Arizona's biggest block party. bike\, walk\, run\, etc\n\n\n\n\
	n\n\n\n\n\n
URL:https://tucsontimeline.info/event/cyclovia-fall-2024
GEO:32.219;-110.968
LOCATION:downtown and south - Armory Park\, Santa Rita Park
STATUS:CONFIRMED
CATEGORIES:activism,bikes
X-ALT-DESC;FMTTYPE=text/html:<p>Arizona's biggest block party. <strong>bike
	</strong>, walk, run, etc</p><p></p><p></p><p></p><p></p><p></p>
END:VEVENT
END:VCALENDAR
